BEGIN:VCALENDAR
VERSION:2.0
PRODID:-//Korbsalix - ECPv6.15.20//NONSGML v1.0//EN
CALSCALE:GREGORIAN
METHOD:PUBLISH
X-ORIGINAL-URL:https://korbsalix.at
X-WR-CALDESC:Veranstaltungen für Korbsalix
REFRESH-INTERVAL;VALUE=DURATION:PT1H
X-Robots-Tag:noindex
X-PUBLISHED-TTL:PT1H
BEGIN:VTIMEZONE
TZID:Europe/Berlin
BEGIN:DAYLIGHT
TZOFFSETFROM:+0100
TZOFFSETTO:+0200
TZNAME:CEST
DTSTART:20250330T010000
END:DAYLIGHT
BEGIN:STANDARD
TZOFFSETFROM:+0200
TZOFFSETTO:+0100
TZNAME:CET
DTSTART:20251026T010000
END:STANDARD
BEGIN:DAYLIGHT
TZOFFSETFROM:+0100
TZOFFSETTO:+0200
TZNAME:CEST
DTSTART:20260329T010000
END:DAYLIGHT
BEGIN:STANDARD
TZOFFSETFROM:+0200
TZOFFSETTO:+0100
TZNAME:CET
DTSTART:20261025T010000
END:STANDARD
BEGIN:DAYLIGHT
TZOFFSETFROM:+0100
TZOFFSETTO:+0200
TZNAME:CEST
DTSTART:20270328T010000
END:DAYLIGHT
BEGIN:STANDARD
TZOFFSETFROM:+0200
TZOFFSETTO:+0100
TZNAME:CET
DTSTART:20271031T010000
END:STANDARD
END:VTIMEZONE
BEGIN:VEVENT
DTSTART;TZID=Europe/Berlin:20261217T090000
DTEND;TZID=Europe/Berlin:20261218T173000
DTSTAMP:20260420T223049
CREATED:20260408T193339Z
LAST-MODIFIED:20260408T193339Z
UID:2126-1797498000-1797615000@korbsalix.at
SUMMARY:Der Allrounder: Rundkorb-Flechtworkshop
DESCRIPTION:Kursbeschreibung hier
URL:https://korbsalix.at/veranstaltungen/der-allrounder-rundkorb-flechtworkshop-2/
END:VEVENT
BEGIN:VEVENT
DTSTART;TZID=Europe/Berlin:20261219T090000
DTEND;TZID=Europe/Berlin:20261219T180000
DTSTAMP:20260420T223049
CREATED:20260408T193707Z
LAST-MODIFIED:20260408T193707Z
UID:2127-1797670800-1797703200@korbsalix.at
SUMMARY:Schalenförmiger Korb mit Henkel: Rahmenkorb-Flechtworkshop
DESCRIPTION:Kursbeschreibung hier
URL:https://korbsalix.at/veranstaltungen/schalenfoermiger-korb-mit-henkel-rahmenkorb-flechtworkshop-2/
END:VEVENT
BEGIN:VEVENT
DTSTART;TZID=Europe/Berlin:20261220T090000
DTEND;TZID=Europe/Berlin:20261220T170000
DTSTAMP:20260420T223049
CREATED:20260408T193853Z
LAST-MODIFIED:20260408T193853Z
UID:2128-1797757200-1797786000@korbsalix.at
SUMMARY:Kreatives Weidenflechten – Glockengeflecht
DESCRIPTION:Kursbeschreibung hier
URL:https://korbsalix.at/veranstaltungen/kreatives-weidenflechten-glockengeflecht-3/
END:VEVENT
END:VCALENDAR