BEGIN:VCALENDAR
VERSION:2.0
PRODID:-//Korbsalix - ECPv6.15.20//NONSGML v1.0//EN
CALSCALE:GREGORIAN
METHOD:PUBLISH
X-WR-CALNAME:Korbsalix
X-ORIGINAL-URL:https://korbsalix.at
X-WR-CALDESC:Veranstaltungen für Korbsalix
REFRESH-INTERVAL;VALUE=DURATION:PT1H
X-Robots-Tag:noindex
X-PUBLISHED-TTL:PT1H
BEGIN:VTIMEZONE
TZID:Europe/Berlin
BEGIN:DAYLIGHT
TZOFFSETFROM:+0100
TZOFFSETTO:+0200
TZNAME:CEST
DTSTART:20250330T010000
END:DAYLIGHT
BEGIN:STANDARD
TZOFFSETFROM:+0200
TZOFFSETTO:+0100
TZNAME:CET
DTSTART:20251026T010000
END:STANDARD
BEGIN:DAYLIGHT
TZOFFSETFROM:+0100
TZOFFSETTO:+0200
TZNAME:CEST
DTSTART:20260329T010000
END:DAYLIGHT
BEGIN:STANDARD
TZOFFSETFROM:+0200
TZOFFSETTO:+0100
TZNAME:CET
DTSTART:20261025T010000
END:STANDARD
BEGIN:DAYLIGHT
TZOFFSETFROM:+0100
TZOFFSETTO:+0200
TZNAME:CEST
DTSTART:20270328T010000
END:DAYLIGHT
BEGIN:STANDARD
TZOFFSETFROM:+0200
TZOFFSETTO:+0100
TZNAME:CET
DTSTART:20271031T010000
END:STANDARD
END:VTIMEZONE
BEGIN:VEVENT
DTSTART;TZID=Europe/Berlin:20261105T090000
DTEND;TZID=Europe/Berlin:20261105T170000
DTSTAMP:20260420T204204
CREATED:20260408T191527Z
LAST-MODIFIED:20260408T191527Z
UID:2124-1793869200-1793898000@korbsalix.at
SUMMARY:Organische Formen: Burkina Faso-Flechtworkshop
DESCRIPTION:Kursbeschreibung hier
URL:https://korbsalix.at/veranstaltungen/organische-formen-burkina-faso-flechtworkshop-4/
END:VEVENT
BEGIN:VEVENT
DTSTART;TZID=Europe/Berlin:20261106T090000
DTEND;TZID=Europe/Berlin:20261107T180000
DTSTAMP:20260420T204204
CREATED:20260408T191914Z
LAST-MODIFIED:20260408T191914Z
UID:2125-1793955600-1794074400@korbsalix.at
SUMMARY:Perigord-Korb! Henkelkorb im französischen Spiralzopf
DESCRIPTION:Kursbeschreibung hier \nBeide Tage jeweils von 9 bis 18 Uhr
URL:https://korbsalix.at/veranstaltungen/perigord-korb-henkelkorb-im-franzoesischen-spiralzopf-3/
END:VEVENT
END:VCALENDAR