BEGIN:VCALENDAR
VERSION:2.0
PRODID:-//Korbsalix - ECPv6.15.20//NONSGML v1.0//EN
CALSCALE:GREGORIAN
METHOD:PUBLISH
X-ORIGINAL-URL:https://korbsalix.at
X-WR-CALDESC:Veranstaltungen für Korbsalix
REFRESH-INTERVAL;VALUE=DURATION:PT1H
X-Robots-Tag:noindex
X-PUBLISHED-TTL:PT1H
BEGIN:VTIMEZONE
TZID:Europe/Berlin
BEGIN:DAYLIGHT
TZOFFSETFROM:+0100
TZOFFSETTO:+0200
TZNAME:CEST
DTSTART:20250330T010000
END:DAYLIGHT
BEGIN:STANDARD
TZOFFSETFROM:+0200
TZOFFSETTO:+0100
TZNAME:CET
DTSTART:20251026T010000
END:STANDARD
BEGIN:DAYLIGHT
TZOFFSETFROM:+0100
TZOFFSETTO:+0200
TZNAME:CEST
DTSTART:20260329T010000
END:DAYLIGHT
BEGIN:STANDARD
TZOFFSETFROM:+0200
TZOFFSETTO:+0100
TZNAME:CET
DTSTART:20261025T010000
END:STANDARD
BEGIN:DAYLIGHT
TZOFFSETFROM:+0100
TZOFFSETTO:+0200
TZNAME:CEST
DTSTART:20270328T010000
END:DAYLIGHT
BEGIN:STANDARD
TZOFFSETFROM:+0200
TZOFFSETTO:+0100
TZNAME:CET
DTSTART:20271031T010000
END:STANDARD
END:VTIMEZONE
BEGIN:VEVENT
DTSTART;TZID=Europe/Berlin:20260917T090000
DTEND;TZID=Europe/Berlin:20260918T180000
DTSTAMP:20260420T170528
CREATED:20260408T183711Z
LAST-MODIFIED:20260408T183711Z
UID:2116-1789635600-1789754400@korbsalix.at
SUMMARY:Perigord-Korb! Henkelkorb im französischen Spiralzopf
DESCRIPTION:Kursbeschreibung hier \nBeide Tage von 9 bis 18 Uhr
URL:https://korbsalix.at/veranstaltungen/perigord-korb-henkelkorb-im-franzoesischen-spiralzopf-2/
END:VEVENT
BEGIN:VEVENT
DTSTART;TZID=Europe/Berlin:20260919T090000
DTEND;TZID=Europe/Berlin:20260919T170000
DTSTAMP:20260420T170528
CREATED:20260408T184445Z
LAST-MODIFIED:20260408T184445Z
UID:2118-1789808400-1789837200@korbsalix.at
SUMMARY:Organische Formen: Burkina Faso-Flechtworkshop
DESCRIPTION:Kursbeschreibung hier
URL:https://korbsalix.at/veranstaltungen/organische-formen-burkina-faso-flechtworkshop-3/
END:VEVENT
BEGIN:VEVENT
DTSTART;TZID=Europe/Berlin:20260920T090000
DTEND;TZID=Europe/Berlin:20260920T170000
DTSTAMP:20260420T170528
CREATED:20260408T185111Z
LAST-MODIFIED:20260408T190128Z
UID:2120-1789894800-1789923600@korbsalix.at
SUMMARY:Korbflechtkurs – Der Zarzo-Korb
DESCRIPTION:Kursbeschreibung hier
URL:https://korbsalix.at/veranstaltungen/korbflechtkurs-der-zarzo-korb-3/
END:VEVENT
END:VCALENDAR