BEGIN:VCALENDAR
VERSION:2.0
PRODID:-//Korbsalix - ECPv6.15.20//NONSGML v1.0//EN
CALSCALE:GREGORIAN
METHOD:PUBLISH
X-ORIGINAL-URL:https://korbsalix.at
X-WR-CALDESC:Veranstaltungen für Korbsalix
REFRESH-INTERVAL;VALUE=DURATION:PT1H
X-Robots-Tag:noindex
X-PUBLISHED-TTL:PT1H
BEGIN:VTIMEZONE
TZID:Europe/Berlin
BEGIN:DAYLIGHT
TZOFFSETFROM:+0100
TZOFFSETTO:+0200
TZNAME:CEST
DTSTART:20250330T010000
END:DAYLIGHT
BEGIN:STANDARD
TZOFFSETFROM:+0200
TZOFFSETTO:+0100
TZNAME:CET
DTSTART:20251026T010000
END:STANDARD
BEGIN:DAYLIGHT
TZOFFSETFROM:+0100
TZOFFSETTO:+0200
TZNAME:CEST
DTSTART:20260329T010000
END:DAYLIGHT
BEGIN:STANDARD
TZOFFSETFROM:+0200
TZOFFSETTO:+0100
TZNAME:CET
DTSTART:20261025T010000
END:STANDARD
BEGIN:DAYLIGHT
TZOFFSETFROM:+0100
TZOFFSETTO:+0200
TZNAME:CEST
DTSTART:20270328T010000
END:DAYLIGHT
BEGIN:STANDARD
TZOFFSETFROM:+0200
TZOFFSETTO:+0100
TZNAME:CET
DTSTART:20271031T010000
END:STANDARD
END:VTIMEZONE
BEGIN:VEVENT
DTSTART;TZID=Europe/Berlin:20260611T090000
DTEND;TZID=Europe/Berlin:20260612T173000
DTSTAMP:20260420T114834
CREATED:20260408T172612Z
LAST-MODIFIED:20260408T172612Z
UID:2104-1781168400-1781285400@korbsalix.at
SUMMARY:Der Allrounder: Rundkorb-Flechtworkshop
DESCRIPTION:kursbeschreibung hier \nBeide Tage jeweils von 9 bis 17 Uhr
URL:https://korbsalix.at/veranstaltungen/der-allrounder-rundkorb-flechtworkshop/
END:VEVENT
BEGIN:VEVENT
DTSTART;TZID=Europe/Berlin:20260613T090000
DTEND;TZID=Europe/Berlin:20260613T170000
DTSTAMP:20260420T114834
CREATED:20260408T172953Z
LAST-MODIFIED:20260408T172953Z
UID:2106-1781341200-1781370000@korbsalix.at
SUMMARY:Korbflechtkurs – Der Zarzo-Korb
DESCRIPTION:Kursbeschreibung hier
URL:https://korbsalix.at/veranstaltungen/korbflechtkurs-der-zarzo-korb-2/
END:VEVENT
BEGIN:VEVENT
DTSTART;TZID=Europe/Berlin:20260614T090000
DTEND;TZID=Europe/Berlin:20260614T170000
DTSTAMP:20260420T114834
CREATED:20260408T173518Z
LAST-MODIFIED:20260408T173518Z
UID:2107-1781427600-1781456400@korbsalix.at
SUMMARY:Rundkorb flechten: Kleiner Korb mit Lochgriff
DESCRIPTION:Kursbeschreibung hier
URL:https://korbsalix.at/veranstaltungen/rundkorb-flechten-kleiner-korb-mit-lochgriff/
END:VEVENT
BEGIN:VEVENT
DTSTART;TZID=Europe/Berlin:20260625T090000
DTEND;TZID=Europe/Berlin:20260626T180000
DTSTAMP:20260420T114834
CREATED:20260408T174809Z
LAST-MODIFIED:20260408T174809Z
UID:2109-1782378000-1782496800@korbsalix.at
SUMMARY:Eckige Körbe flechten – die Königsdisziplin der Weidenkorbflechterei
DESCRIPTION:Kursbeschreibung hier \nBeide Tage jeweils von 9 bis 18 Uhr
URL:https://korbsalix.at/veranstaltungen/eckige-koerbe-flechten-die-koenigsdisziplin-der-weidenkorbflechterei/
END:VEVENT
BEGIN:VEVENT
DTSTART;TZID=Europe/Berlin:20260627T090000
DTEND;TZID=Europe/Berlin:20260627T170000
DTSTAMP:20260420T114834
CREATED:20260408T175849Z
LAST-MODIFIED:20260408T175849Z
UID:2112-1782550800-1782579600@korbsalix.at
SUMMARY:Organische Formen: Burkina Faso-Flechtworkshop
DESCRIPTION:Kursbeschreibung hier
URL:https://korbsalix.at/veranstaltungen/organische-formen-burkina-faso-flechtworkshop-2/
END:VEVENT
BEGIN:VEVENT
DTSTART;TZID=Europe/Berlin:20260628T090000
DTEND;TZID=Europe/Berlin:20260628T170000
DTSTAMP:20260420T114834
CREATED:20260408T182918Z
LAST-MODIFIED:20260408T182918Z
UID:2114-1782637200-1782666000@korbsalix.at
SUMMARY:Kreatives Weidenflechten – Glockengeflecht
DESCRIPTION:Kursbeschreibung hier
URL:https://korbsalix.at/veranstaltungen/kreatives-weidenflechten-glockengeflecht/
END:VEVENT
END:VCALENDAR